BEGIN:VCALENDAR
VERSION:2.0
PRODID:-//SHAPE Florida - ECPv6.15.20//NONSGML v1.0//EN
CALSCALE:GREGORIAN
METHOD:PUBLISH
X-ORIGINAL-URL:https://shapeflorida.org
X-WR-CALDESC:Events for SHAPE Florida
REFRESH-INTERVAL;VALUE=DURATION:PT1H
X-Robots-Tag:noindex
X-PUBLISHED-TTL:PT1H
BEGIN:VTIMEZONE
TZID:America/New_York
BEGIN:DAYLIGHT
TZOFFSETFROM:-0500
TZOFFSETTO:-0400
TZNAME:EDT
DTSTART:20250309T070000
END:DAYLIGHT
BEGIN:STANDARD
TZOFFSETFROM:-0400
TZOFFSETTO:-0500
TZNAME:EST
DTSTART:20251102T060000
END:STANDARD
BEGIN:DAYLIGHT
TZOFFSETFROM:-0500
TZOFFSETTO:-0400
TZNAME:EDT
DTSTART:20260308T070000
END:DAYLIGHT
BEGIN:STANDARD
TZOFFSETFROM:-0400
TZOFFSETTO:-0500
TZNAME:EST
DTSTART:20261101T060000
END:STANDARD
BEGIN:DAYLIGHT
TZOFFSETFROM:-0500
TZOFFSETTO:-0400
TZNAME:EDT
DTSTART:20270314T070000
END:DAYLIGHT
BEGIN:STANDARD
TZOFFSETFROM:-0400
TZOFFSETTO:-0500
TZNAME:EST
DTSTART:20271107T060000
END:STANDARD
END:VTIMEZONE
BEGIN:VEVENT
DTSTART;VALUE=DATE:20261008
DTEND;VALUE=DATE:20261011
DTSTAMP:20260421T173951
CREATED:20260329T042835Z
LAST-MODIFIED:20260329T052103Z
UID:7408-1791417600-1791676799@shapeflorida.org
SUMMARY:2026 SHAPE Florida Annual Convention - Student & Retired Member Registration
DESCRIPTION:Please be sure to update your member profile to ensure you receive the latest event updates and opportunities. \nIf your browser is not recognizing your login\, please try again and refresh the page. \nTo pay by check or purchase order\, please email info@shapeflorida.com. \n\n\n2026 SHAPE Florida Convention Information\n\nThursday\, October 8 – Saturday\, October 10\, 2026\n\nWorld Golf Village Renaissance St. Augustine Resort ($150/night): Book by Wednesday\, September 9\, 2026\n\n\nResort Group Reservations Phone Number: 1-888-312-2154\n\n\nAward Nomination Form: Due by Friday\, May 8\, 2026\n\n\nTeacher of the Year Application: Due by Friday\, May 8\, 2026\n\n\nAward Definitions & Criteria​\n\n\nBoard of Directors Application: Due by Friday\, June 19\, 2026\n\n\nRequest For Program Proposals\n\n\nVendor & Partner Application\n\n\nVendor & Partner Opportunities\n\n\n\nRESERVE YOUR HOTEL\n \n\n\n\n \nTickets\nThe numbers below include tickets for this event already in your cart. Clicking “Get Tickets” will allow you to edit any existing attendee information as well as change ticket quantities.\nTickets will be available on April 1\, 2026
URL:https://shapeflorida.org/event/2026-shape-florida-annual-convention-student-retired-member-registration/
LOCATION:World Golf Village Renaissance St. Augustine Resort\, 500 S Legacy Trail\, St. Augustine\, FL\, 32092\, United States
CATEGORIES:Events
ATTACH;FMTTYPE=image/png:https://shapeflorida.org/wp-content/uploads/2026/01/Shape-2026-logo.png
ORGANIZER;CN="SHAPE Florida":MAILTO:info@shapeflorida.org
END:VEVENT
BEGIN:VEVENT
DTSTART;VALUE=DATE:20261008
DTEND;VALUE=DATE:20261011
DTSTAMP:20260421T173951
CREATED:20260329T005359Z
LAST-MODIFIED:20260329T052011Z
UID:7409-1791417600-1791676799@shapeflorida.org
SUMMARY:2026 SHAPE Florida Annual Convention - Professional Member Registration
DESCRIPTION:Please be sure to update your member profile to ensure you receive the latest event updates and opportunities. \nIf your browser is not recognizing your login\, please try again and refresh the page. \nTo pay by check or purchase order\, please email info@shapeflorida.com. \n\n\n2026 SHAPE Florida Convention Information\n\nThursday\, October 8 – Saturday\, October 10\, 2026\n\nWorld Golf Village Renaissance St. Augustine Resort ($150/night): Book by Wednesday\, September 9\, 2026\n\n\nResort Group Reservations Phone Number: 1-888-312-2154\n\n\nAward Nomination Form: Due by Friday\, May 8\, 2026\n\n\nTeacher of the Year Application: Due by Friday\, May 8\, 2026\n\n\nAward Definitions & Criteria​\n\n\nBoard of Directors Application: Due by Friday\, June 19\, 2026\n\n\nRequest For Program Proposals\n\n\nVendor & Partner Application\n\n\nVendor & Partner Opportunities\n\n\n\nRESERVE YOUR HOTEL\n \n\n\n\n \nTickets\nThe numbers below include tickets for this event already in your cart. Clicking “Get Tickets” will allow you to edit any existing attendee information as well as change ticket quantities.\nTickets will be available on April 1\, 2026
URL:https://shapeflorida.org/event/2026-shape-florida-annual-convention-professional-member-registration/
LOCATION:World Golf Village Renaissance St. Augustine Resort\, 500 S Legacy Trail\, St. Augustine\, FL\, 32092\, United States
CATEGORIES:Events
ATTACH;FMTTYPE=image/png:https://shapeflorida.org/wp-content/uploads/2026/01/Shape-2026-logo.png
ORGANIZER;CN="SHAPE Florida":MAILTO:info@shapeflorida.org
END:VEVENT
BEGIN:VEVENT
DTSTART;VALUE=DATE:20261008
DTEND;VALUE=DATE:20261011
DTSTAMP:20260421T173951
CREATED:20260329T042849Z
LAST-MODIFIED:20260329T052105Z
UID:7407-1791417600-1791676799@shapeflorida.org
SUMMARY:2026 SHAPE Florida Annual Convention – Out Of State Registration
DESCRIPTION:Content is protected.
URL:https://shapeflorida.org/event/2026-shape-florida-annual-convention-out-of-state-registration/
LOCATION:World Golf Village Renaissance St. Augustine Resort\, 500 S Legacy Trail\, St. Augustine\, FL\, 32092\, United States
ORGANIZER;CN="SHAPE Florida":MAILTO:info@shapeflorida.org
END:VEVENT
END:VCALENDAR